BEGIN:VCALENDAR
VERSION:2.0
PRODID:icalendar-ruby
CALSCALE:GREGORIAN
BEGIN:VTIMEZONE
TZID:Europe/Berlin
BEGIN:DAYLIGHT
DTSTART:20260329T030000
TZOFFSETFROM:+0100
TZOFFSETTO:+0200
RRULE:FREQ=YEARLY;BYDAY=-1SU;BYMONTH=3
TZNAME:CEST
END:DAYLIGHT
BEGIN:STANDARD
DTSTART:20251026T020000
TZOFFSETFROM:+0200
TZOFFSETTO:+0100
RRULE:FREQ=YEARLY;BYDAY=-1SU;BYMONTH=10
TZNAME:CET
END:STANDARD
END:VTIMEZONE
BEGIN:VEVENT
DTSTAMP:20260422T140358Z
UID:c227e590-f4c6-5035-abc9-279becd536cc
DTSTART;TZID=Europe/Berlin:20260317T133000
DTEND;TZID=Europe/Berlin:20260317T170000
DESCRIPTION:Festakt zur Eröffnung des Innovationszentrums für Agrarsystem
 transformation (IAT)\n\nAm 17. März 2026 veranstaltet das Leibniz-Zentrum
  für Agrarlandschaftsforschung (ZALF) die feierliche Eröffnung des Innov
 ationszentrums für Agrarsystemtransformation (IAT) im Futurium in Berlin.
 \n\nVeranstaltungsdetails:\nDatum: Dienstag\, 17. März 2026\nOrt: Futuriu
 m Berlin\nUhrzeit: 13:30–17:00 Uhr (Registrierung ab 12:30 Uhr)\n\nBei F
 ragen wenden Sie sich an events@zalf.de. Wir freuen uns auf Ihre Teilnahme
 !\n\nMit freundlichen Grüßen\nIhr ZALF-Event-Team\n\n--\n\nLeibniz-Zentr
 um für Agrarlandschaftsforschung (ZALF) e. V.\nEberswalder Str. 84\n15374
  Müncheberg\n\nE-Mail: events@zalf.de \nWeb: www.zalf.de\n \nWissenschaft
 licher Direktor: Prof. Dr. Frank Ewert\nAdministrativer Direktor: Martin J
 ank\nEingetragen im Vereinsregister VR 3535\, Amtsgericht Frankfurt (Oder)
 \nUmsatzsteuernummer: DE811417184
LOCATION:Futurium – Haus der Zukünfte\, Alexanderufer 2\, 10117 Berlin
SEQUENCE:8550499
SUMMARY:Festakt zur Eröffnung des Innovationszentrums für Agrarsystemtran
 sformation (IAT) 
END:VEVENT
END:VCALENDAR

