BEGIN:VCALENDAR
VERSION:2.0
PRODID:icalendar-ruby
CALSCALE:GREGORIAN
BEGIN:VTIMEZONE
TZID:Europe/Copenhagen
BEGIN:DAYLIGHT
DTSTART:20260329T030000
TZOFFSETFROM:+0100
TZOFFSETTO:+0200
RRULE:FREQ=YEARLY;BYDAY=-1SU;BYMONTH=3
TZNAME:CEST
END:DAYLIGHT
BEGIN:STANDARD
DTSTART:20261025T020000
TZOFFSETFROM:+0200
TZOFFSETTO:+0100
RRULE:FREQ=YEARLY;BYDAY=-1SU;BYMONTH=10
TZNAME:CET
END:STANDARD
END:VTIMEZONE
BEGIN:VEVENT
DTSTAMP:20260420T151742Z
UID:aeed1085-8b15-59b7-80f9-d3db3ffbe46b
DTSTART;TZID=Europe/Copenhagen:20260526T090000
DTEND;TZID=Europe/Copenhagen:20260526T150000
LOCATION:World Trade Center Ballerup\, Borupvang 3\, 2750 Ballerup
SEQUENCE:4054107
SUMMARY:Atea Insights 2026 in Copenhagen
END:VEVENT
END:VCALENDAR

