BEGIN:VCALENDAR
VERSION:2.0
PRODID:icalendar-ruby
CALSCALE:GREGORIAN
BEGIN:VTIMEZONE
TZID:Europe/Stockholm
BEGIN:DAYLIGHT
DTSTART:20260329T030000
TZOFFSETFROM:+0100
TZOFFSETTO:+0200
RRULE:FREQ=YEARLY;BYDAY=-1SU;BYMONTH=3
TZNAME:CEST
END:DAYLIGHT
BEGIN:STANDARD
DTSTART:20261025T020000
TZOFFSETFROM:+0200
TZOFFSETTO:+0100
RRULE:FREQ=YEARLY;BYDAY=-1SU;BYMONTH=10
TZNAME:CET
END:STANDARD
END:VTIMEZONE
BEGIN:VEVENT
DTSTAMP:20260421T170748Z
UID:069a7dfc-89e4-50dd-b39b-c2a88eb064dd
DTSTART;TZID=Europe/Stockholm:20260505T080000
DTEND;TZID=Europe/Stockholm:20260505T130000
DESCRIPTION:https://www.stvf.se/
LOCATION:Welcome Hotell\, Notarievägen 5\, 177 46 Järfälla
SEQUENCE:4260
SUMMARY:Tentamen/Uppgraderingstentamen för STVF auktoriserad rörinspektö
 r Mark och Fastighet 
URL;VALUE=URI:https://www.stvf.se/
END:VEVENT
END:VCALENDAR

