BEGIN:VCALENDAR
VERSION:2.0
PRODID:icalendar-ruby
CALSCALE:GREGORIAN
BEGIN:VTIMEZONE
TZID:Europe/Copenhagen
BEGIN:DAYLIGHT
DTSTART:20260329T030000
TZOFFSETFROM:+0100
TZOFFSETTO:+0200
RRULE:FREQ=YEARLY;BYDAY=-1SU;BYMONTH=3
TZNAME:CEST
END:DAYLIGHT
BEGIN:STANDARD
DTSTART:20261025T020000
TZOFFSETFROM:+0200
TZOFFSETTO:+0100
RRULE:FREQ=YEARLY;BYDAY=-1SU;BYMONTH=10
TZNAME:CET
END:STANDARD
END:VTIMEZONE
BEGIN:VEVENT
DTSTAMP:20260420T151743Z
UID:1651940b-564a-57d7-b344-1eca6e40ad97
DTSTART;TZID=Europe/Copenhagen:20260601T090000
DTEND;TZID=Europe/Copenhagen:20260601T150000
LOCATION:Comwell Aarhus\, Værkmestergade 2\, 8000 Aarhus C
SEQUENCE:1890270
SUMMARY:Atea Insights 2026 in Aarhus
END:VEVENT
END:VCALENDAR

